BEGIN:VCALENDAR
VERSION:2.0
PRODID:-//CCIFM - ECPv6.15.20//NONSGML v1.0//EN
CALSCALE:GREGORIAN
METHOD:PUBLISH
X-ORIGINAL-URL:https://ccif-marseille.com
X-WR-CALDESC:Évènements pour CCIFM
REFRESH-INTERVAL;VALUE=DURATION:PT1H
X-Robots-Tag:noindex
X-PUBLISHED-TTL:PT1H
BEGIN:VTIMEZONE
TZID:Europe/Paris
BEGIN:DAYLIGHT
TZOFFSETFROM:+0100
TZOFFSETTO:+0200
TZNAME:CEST
DTSTART:20250330T010000
END:DAYLIGHT
BEGIN:STANDARD
TZOFFSETFROM:+0200
TZOFFSETTO:+0100
TZNAME:CET
DTSTART:20251026T010000
END:STANDARD
BEGIN:DAYLIGHT
TZOFFSETFROM:+0100
TZOFFSETTO:+0200
TZNAME:CEST
DTSTART:20260329T010000
END:DAYLIGHT
BEGIN:STANDARD
TZOFFSETFROM:+0200
TZOFFSETTO:+0100
TZNAME:CET
DTSTART:20261025T010000
END:STANDARD
BEGIN:DAYLIGHT
TZOFFSETFROM:+0100
TZOFFSETTO:+0200
TZNAME:CEST
DTSTART:20270328T010000
END:DAYLIGHT
BEGIN:STANDARD
TZOFFSETFROM:+0200
TZOFFSETTO:+0100
TZNAME:CET
DTSTART:20271031T010000
END:STANDARD
END:VTIMEZONE
BEGIN:VEVENT
DTSTART;TZID=Europe/Paris:20260301T080000
DTEND;TZID=Europe/Paris:20260513T170000
DTSTAMP:20260419T204615
CREATED:20251203T100307Z
LAST-MODIFIED:20260303T075919Z
UID:10483-1772352000-1778691600@ccif-marseille.com
SUMMARY:Business Trip “Bike” en Italie avec Promos Italia
DESCRIPTION:La Chambre de Commerce Italienne pour la France de Marseille organise un Business Trip en Italie avec Promos Italia. Les participants découvriront des entreprises innovantes et participeront à des rencontres B2B dans le secteur du vélo.  \nUne opportunité unique pour renforcer les partenariats et développer de nouvelles collaborations commerciales. Cet événement permet de combiner visites professionnelles et échanges concrets.  \nNe manquez pas cette immersion dans l’écosystème entrepreneurial italien. \nDates en cours de validation.
URL:https://ccif-marseille.com/evenement-ccifm/business-trip-italie-promos-italia-velo/
LOCATION:Italie\, Italy
CATEGORIES:Incontri B2B,Rencontres B2B
ATTACH;FMTTYPE=image/jpeg:https://ccif-marseille.com/wp-content/uploads/2025/12/Bike-B2B.jpg
ORGANIZER;CN="Fabienne Apeddu":MAILTO:info@ccif-marseille.com
END:VEVENT
BEGIN:VEVENT
DTSTART;TZID=Europe/Paris:20260430T080000
DTEND;TZID=Europe/Paris:20260511T170000
DTSTAMP:20260419T204615
CREATED:20251203T081617Z
LAST-MODIFIED:20251203T081617Z
UID:10359-1777536000-1778518800@ccif-marseille.com
SUMMARY:Foire de Paris
DESCRIPTION:La Foire de Paris est programmée du 30 avril au 11 mai 2026\, rassemblant un large public.\nLa CCIFM y organise le Pavillon Italien pour présenter entreprises\, innovations et produits italiens. \n\nLe salon attire chaque année plusieurs centaines de milliers de visiteurs\, offrant une grande visibilité.\nExpositions\, démonstrations et offres commerciales font de cet événement un temps fort pour le commerce. \n\nUne excellente opportunité pour les entreprises italiennes de toucher un public national et international. \n 
URL:https://ccif-marseille.com/evenement-ccifm/foire-paris-2026-pavillon-italien/
LOCATION:Paris Expo Porte de Versailles\, 1 Pl. de la Prte de Versailles\, Paris\, 75015\, France
CATEGORIES:Foires et salons
ATTACH;FMTTYPE=image/jpeg:https://ccif-marseille.com/wp-content/uploads/2025/12/Foire-de-Paris.jpg
ORGANIZER;CN="Annamaria Perna":MAILTO:promotion2@ccif-marseille.com
END:VEVENT
BEGIN:VEVENT
DTSTART;TZID=Europe/Paris:20260501T080000
DTEND;TZID=Europe/Paris:20260630T170000
DTSTAMP:20260419T204615
CREATED:20251203T101518Z
LAST-MODIFIED:20251203T131420Z
UID:10505-1777622400-1782838800@ccif-marseille.com
SUMMARY:Presstour Voyage découverte en Provence
DESCRIPTION:La CCIFM organise un Presstour pour quatre journalistes italiens en Provence. Ce voyage de découverte met en avant les atouts culturels et touristiques de la région.  \nLes rencontres permettront de créer des contenus médiatiques et de renforcer la promotion touristique de la France en Italie. Un programme sur mesure combine visites et expériences locales.  \nC’est une initiative stratégique pour accroître la visibilité des territoires français auprès des médias italiens. \nDates en cours de validation.
URL:https://ccif-marseille.com/evenement-ccifm/presstour-journalistes-italiens-provence/
LOCATION:Provence\, Provenza - Costa Azzurra\, France
CATEGORIES:Rencontres B2B
ATTACH;FMTTYPE=image/jpeg:https://ccif-marseille.com/wp-content/uploads/2025/12/Press-Tour-Provence.jpg
ORGANIZER;CN="Fabienne Apeddu":MAILTO:info@ccif-marseille.com
END:VEVENT
BEGIN:VEVENT
DTSTART;TZID=Europe/Paris:20260506T080000
DTEND;TZID=Europe/Paris:20260510T170000
DTSTAMP:20260419T204615
CREATED:20251203T082220Z
LAST-MODIFIED:20251203T082220Z
UID:10371-1778054400-1778432400@ccif-marseille.com
SUMMARY:Fest’Italia Sainte-Maxime
DESCRIPTION:FEST’ITALIA revient à Sainte-Maxime pour sa 27ᵉ édition\, du 6 au 10 mai 2026 (pont de l’Ascension).\nLa CCIFM transforme le front de mer en village italien avec stands\, animations et spectacles. \n\nProducteurs italiens\, ateliers culinaires et musique créent une atmosphère conviviale et touristique.\nL’événement séduit habitants et vacanciers\, renforçant les liens culturels et touristiques locaux. \n\nUn rendez-vous incontournable sur la Côte d’Azur pour célébrer le meilleur de l’Italie.
URL:https://ccif-marseille.com/evenement-ccifm/fest-italia-sainte-maxime-2026/
LOCATION:Sainte-Maxime\, Var\, 83120\, France
CATEGORIES:Foires et salons
ATTACH;FMTTYPE=image/jpeg:https://ccif-marseille.com/wp-content/uploads/2025/12/Sainte-Maxime.jpg
ORGANIZER;CN="Annamaria Perna":MAILTO:promotion2@ccif-marseille.com
END:VEVENT
END:VCALENDAR