BEGIN:VCALENDAR
VERSION:2.0
PRODID:-//CCIFM - ECPv6.15.20//NONSGML v1.0//EN
CALSCALE:GREGORIAN
METHOD:PUBLISH
X-ORIGINAL-URL:https://ccif-marseille.com
X-WR-CALDESC:Évènements pour CCIFM
REFRESH-INTERVAL;VALUE=DURATION:PT1H
X-Robots-Tag:noindex
X-PUBLISHED-TTL:PT1H
BEGIN:VTIMEZONE
TZID:Europe/Paris
BEGIN:DAYLIGHT
TZOFFSETFROM:+0100
TZOFFSETTO:+0200
TZNAME:CEST
DTSTART:20250330T010000
END:DAYLIGHT
BEGIN:STANDARD
TZOFFSETFROM:+0200
TZOFFSETTO:+0100
TZNAME:CET
DTSTART:20251026T010000
END:STANDARD
BEGIN:DAYLIGHT
TZOFFSETFROM:+0100
TZOFFSETTO:+0200
TZNAME:CEST
DTSTART:20260329T010000
END:DAYLIGHT
BEGIN:STANDARD
TZOFFSETFROM:+0200
TZOFFSETTO:+0100
TZNAME:CET
DTSTART:20261025T010000
END:STANDARD
BEGIN:DAYLIGHT
TZOFFSETFROM:+0100
TZOFFSETTO:+0200
TZNAME:CEST
DTSTART:20270328T010000
END:DAYLIGHT
BEGIN:STANDARD
TZOFFSETFROM:+0200
TZOFFSETTO:+0100
TZNAME:CET
DTSTART:20271031T010000
END:STANDARD
END:VTIMEZONE
BEGIN:VEVENT
DTSTART;TZID=Europe/Paris:20260902T080000
DTEND;TZID=Europe/Paris:20260906T170000
DTSTAMP:20260419T230042
CREATED:20251203T090335Z
LAST-MODIFIED:20251203T090335Z
UID:10415-1788336000-1788714000@ccif-marseille.com
SUMMARY:Les Italiennes Martigues
DESCRIPTION:Les Italiennes se tiendront à Martigues du 2 au 6 septembre 2026 pour leur 19ᵉ édition.\nLa CCIFM y installe un village italien riche en produits gourmands et créations artisanales. \n\nAnimations\, concerts et démonstrations animent la cité surnommée la « Venise provençale ».\nL’événement attire un public familial et touristique en fin d’été. \n\nUn rendez-vous de rentrée pour célébrer l’identité culturelle italienne en Provence.
URL:https://ccif-marseille.com/evenement-ccifm/les-italiennes-martigues-2026/
LOCATION:Martigues\, Jardin de Ferrières\, Martigues\, 13500\, France
CATEGORIES:Foires et salons
ATTACH;FMTTYPE=image/jpeg:https://ccif-marseille.com/wp-content/uploads/2025/12/Martigues.jpg
ORGANIZER;CN="Annamaria Perna":MAILTO:promotion2@ccif-marseille.com
END:VEVENT
END:VCALENDAR