BEGIN:VCALENDAR
VERSION:2.0
PRODID:-//CCIFM - ECPv6.15.20//NONSGML v1.0//EN
CALSCALE:GREGORIAN
METHOD:PUBLISH
X-WR-CALNAME:CCIFM
X-ORIGINAL-URL:https://ccif-marseille.com
X-WR-CALDESC:Évènements pour CCIFM
REFRESH-INTERVAL;VALUE=DURATION:PT1H
X-Robots-Tag:noindex
X-PUBLISHED-TTL:PT1H
BEGIN:VTIMEZONE
TZID:Europe/Paris
BEGIN:DAYLIGHT
TZOFFSETFROM:+0100
TZOFFSETTO:+0200
TZNAME:CEST
DTSTART:20250330T010000
END:DAYLIGHT
BEGIN:STANDARD
TZOFFSETFROM:+0200
TZOFFSETTO:+0100
TZNAME:CET
DTSTART:20251026T010000
END:STANDARD
BEGIN:DAYLIGHT
TZOFFSETFROM:+0100
TZOFFSETTO:+0200
TZNAME:CEST
DTSTART:20260329T010000
END:DAYLIGHT
BEGIN:STANDARD
TZOFFSETFROM:+0200
TZOFFSETTO:+0100
TZNAME:CET
DTSTART:20261025T010000
END:STANDARD
BEGIN:DAYLIGHT
TZOFFSETFROM:+0100
TZOFFSETTO:+0200
TZNAME:CEST
DTSTART:20270328T010000
END:DAYLIGHT
BEGIN:STANDARD
TZOFFSETFROM:+0200
TZOFFSETTO:+0100
TZNAME:CET
DTSTART:20271031T010000
END:STANDARD
END:VTIMEZONE
BEGIN:VEVENT
DTSTART;TZID=Europe/Paris:20260904T080000
DTEND;TZID=Europe/Paris:20260913T170000
DTSTAMP:20260420T002644
CREATED:20251203T090845Z
LAST-MODIFIED:20251203T090845Z
UID:10421-1788508800-1789318800@ccif-marseille.com
SUMMARY:Foire Européenne de Strasbourg
DESCRIPTION:La Foire Européenne de Strasbourg aura lieu du 4 au 13 septembre 2026\, rassemblant un large public transfrontalier.\nLa CCIFM y organise le Pavillon Italien pour présenter produits et initiatives touristiques. \n\nPlus de 139 998 visiteurs (stat. 2025) confirment l’attractivité de cette foire européenne.\nLes exposants italiens mêlent gastronomie\, artisanat et propositions culturelles. \n\nUn rendez-vous stratégique pour toucher le public d’Alsace et des régions voisines. \n 
URL:https://ccif-marseille.com/evenement-ccifm/foire-europeenne-strasbourg-2026/
LOCATION:Parc Expo strasbourg\, Place de Bordeaux\, Strasbourg\, 67082
CATEGORIES:Foires et salons
ATTACH;FMTTYPE=image/jpeg:https://ccif-marseille.com/wp-content/uploads/2025/12/Strasbourg.jpg
ORGANIZER;CN="Annamaria Perna":MAILTO:promotion2@ccif-marseille.com
END:VEVENT
END:VCALENDAR