BEGIN:VCALENDAR
VERSION:2.0
PRODID:-//CCIFM - ECPv6.15.20//NONSGML v1.0//EN
CALSCALE:GREGORIAN
METHOD:PUBLISH
X-WR-CALNAME:CCIFM
X-ORIGINAL-URL:https://ccif-marseille.com
X-WR-CALDESC:Évènements pour CCIFM
REFRESH-INTERVAL;VALUE=DURATION:PT1H
X-Robots-Tag:noindex
X-PUBLISHED-TTL:PT1H
BEGIN:VTIMEZONE
TZID:Europe/Paris
BEGIN:DAYLIGHT
TZOFFSETFROM:+0100
TZOFFSETTO:+0200
TZNAME:CEST
DTSTART:20250330T010000
END:DAYLIGHT
BEGIN:STANDARD
TZOFFSETFROM:+0200
TZOFFSETTO:+0100
TZNAME:CET
DTSTART:20251026T010000
END:STANDARD
BEGIN:DAYLIGHT
TZOFFSETFROM:+0100
TZOFFSETTO:+0200
TZNAME:CEST
DTSTART:20260329T010000
END:DAYLIGHT
BEGIN:STANDARD
TZOFFSETFROM:+0200
TZOFFSETTO:+0100
TZNAME:CET
DTSTART:20261025T010000
END:STANDARD
BEGIN:DAYLIGHT
TZOFFSETFROM:+0100
TZOFFSETTO:+0200
TZNAME:CEST
DTSTART:20270328T010000
END:DAYLIGHT
BEGIN:STANDARD
TZOFFSETFROM:+0200
TZOFFSETTO:+0100
TZNAME:CET
DTSTART:20271031T010000
END:STANDARD
END:VTIMEZONE
BEGIN:VEVENT
DTSTART;TZID=Europe/Paris:20260606T080000
DTEND;TZID=Europe/Paris:20260614T170000
DTSTAMP:20260422T133144
CREATED:20260310T125154Z
LAST-MODIFIED:20260310T125154Z
UID:10831-1780732800-1781456400@ccif-marseille.com
SUMMARY:Foire Expo de Nancy
DESCRIPTION:La Chambre de Commerce Italienne pour la France de Marseille accompagne la présence du Pavillon Italien à la Foire Expo de Nancy\, qui se tiendra du 6 au 14 juin 2026 à Nancy. \nPour sa 90ᵉ édition\, cet événement majeur accueillera plus de 100 000 visiteurs\, confirmant son rôle de rendez-vous incontournable pour les rencontres commerciales et la découverte de savoir-faire internationaux. \nLe Pôle Italie\, situé au Hall B – Place aux Découvertes\, mettra à l’honneur les produits\, les entreprises et l’art de vivre italiens. Les visiteurs pourront y découvrir une sélection d’exposants italiens et échanger directement avec les professionnels présents.
URL:https://ccif-marseille.com/evenement-ccifm/pavillon-italien-foire-expo-nancy-2026/
LOCATION:Parc Expo Nancy\, Rue Catherine Opalinska\, Vandœuvre-lès-Nancy\, 54500\, France
CATEGORIES:Foires et salons
ATTACH;FMTTYPE=image/png:https://ccif-marseille.com/wp-content/uploads/2026/03/IMG-SITE-CCIFM-Calendrier-event-2026-4.png
ORGANIZER;CN="Annamaria Perna":MAILTO:promotion2@ccif-marseille.com
END:VEVENT
END:VCALENDAR