BEGIN:VCALENDAR
VERSION:2.0
PRODID:-//CCIFM - ECPv6.15.20//NONSGML v1.0//EN
CALSCALE:GREGORIAN
METHOD:PUBLISH
X-WR-CALNAME:CCIFM
X-ORIGINAL-URL:https://ccif-marseille.com
X-WR-CALDESC:Évènements pour CCIFM
REFRESH-INTERVAL;VALUE=DURATION:PT1H
X-Robots-Tag:noindex
X-PUBLISHED-TTL:PT1H
BEGIN:VTIMEZONE
TZID:Europe/Paris
BEGIN:DAYLIGHT
TZOFFSETFROM:+0100
TZOFFSETTO:+0200
TZNAME:CEST
DTSTART:20250330T010000
END:DAYLIGHT
BEGIN:STANDARD
TZOFFSETFROM:+0200
TZOFFSETTO:+0100
TZNAME:CET
DTSTART:20251026T010000
END:STANDARD
BEGIN:DAYLIGHT
TZOFFSETFROM:+0100
TZOFFSETTO:+0200
TZNAME:CEST
DTSTART:20260329T010000
END:DAYLIGHT
BEGIN:STANDARD
TZOFFSETFROM:+0200
TZOFFSETTO:+0100
TZNAME:CET
DTSTART:20261025T010000
END:STANDARD
BEGIN:DAYLIGHT
TZOFFSETFROM:+0100
TZOFFSETTO:+0200
TZNAME:CEST
DTSTART:20270328T010000
END:DAYLIGHT
BEGIN:STANDARD
TZOFFSETFROM:+0200
TZOFFSETTO:+0100
TZNAME:CET
DTSTART:20271031T010000
END:STANDARD
END:VTIMEZONE
BEGIN:VEVENT
DTSTART;TZID=Europe/Paris:20260422T080000
DTEND;TZID=Europe/Paris:20260426T170000
DTSTAMP:20260419T145723
CREATED:20251203T085508Z
LAST-MODIFIED:20260331T115941Z
UID:10397-1776844800-1777222800@ccif-marseille.com
SUMMARY:Couleurs d’Italie Bordeaux
DESCRIPTION:Couleurs d’Italie revient à Bordeaux pour sa 2ᵉ édition\, du 22 au 26 avril 2026.\nLa CCIFM y installe un village italien au cœur de la ville\, dédié à la gastronomie et à l’artisanat. \n\nLe marché propose produits régionaux italiens\, animations et rencontres culturelles.\nL’événement vise à renforcer la visibilité du Made in Italy en Nouvelle-Aquitaine.\n \nUn rendez-vous printanier pour découvrir saveurs et savoir-faire italiens.
URL:https://ccif-marseille.com/evenement-ccifm/couleurs-italie-bordeaux-2026/
LOCATION:Bordeaux\, place saint michel\, Bordeaux\, 33000\, France
CATEGORIES:Foires et salons
ATTACH;FMTTYPE=image/jpeg:https://ccif-marseille.com/wp-content/uploads/2025/12/Bordeaux.jpg
ORGANIZER;CN="Annamaria Perna":MAILTO:promotion2@ccif-marseille.com
END:VEVENT
BEGIN:VEVENT
DTSTART;TZID=Europe/Paris:20260410T080000
DTEND;TZID=Europe/Paris:20260419T170000
DTSTAMP:20260419T145723
CREATED:20251203T081920Z
LAST-MODIFIED:20251203T081920Z
UID:10365-1775808000-1776618000@ccif-marseille.com
SUMMARY:Foire Internationale de Toulouse
DESCRIPTION:La Foire Internationale de Toulouse se tiendra du 10 avril au 19 avril 2026\, rendez-vous majeur du Sud-Ouest.\nLa CCIFM organise le Pavillon Italien\, espace dédié à la promotion des produits et entreprises italiennes. \n\nCet événement attire chaque année plus de 110 000 visiteurs et favorise les échanges commerciaux régionaux.\nGastronomie\, artisanat\, design et innovations sont à l’honneur sur le salon. \n\nUn point de rencontre important pour développer les relations franco-italiennes en Occitanie.
URL:https://ccif-marseille.com/evenement-ccifm/foire-toulouse-2026-pavillon-italien/
LOCATION:MEETT – Parc des Expositions et Centre de Conventions de Toulouse Métropole\, Concorde Avenue\, Aussonne\, Occitanie\, 31840\, France
CATEGORIES:Foires et salons
ATTACH;FMTTYPE=image/jpeg:https://ccif-marseille.com/wp-content/uploads/2025/12/Foire-Toulouse.jpg
ORGANIZER;CN="Annamaria Perna":MAILTO:promotion2@ccif-marseille.com
END:VEVENT
END:VCALENDAR