BEGIN:VCALENDAR
VERSION:2.0
PRODID:-//CCIFM - ECPv6.15.20//NONSGML v1.0//EN
CALSCALE:GREGORIAN
METHOD:PUBLISH
X-ORIGINAL-URL:https://ccif-marseille.com
X-WR-CALDESC:Évènements pour CCIFM
REFRESH-INTERVAL;VALUE=DURATION:PT1H
X-Robots-Tag:noindex
X-PUBLISHED-TTL:PT1H
BEGIN:VTIMEZONE
TZID:Europe/Paris
BEGIN:DAYLIGHT
TZOFFSETFROM:+0100
TZOFFSETTO:+0200
TZNAME:CEST
DTSTART:20250330T010000
END:DAYLIGHT
BEGIN:STANDARD
TZOFFSETFROM:+0200
TZOFFSETTO:+0100
TZNAME:CET
DTSTART:20251026T010000
END:STANDARD
BEGIN:DAYLIGHT
TZOFFSETFROM:+0100
TZOFFSETTO:+0200
TZNAME:CEST
DTSTART:20260329T010000
END:DAYLIGHT
BEGIN:STANDARD
TZOFFSETFROM:+0200
TZOFFSETTO:+0100
TZNAME:CET
DTSTART:20261025T010000
END:STANDARD
BEGIN:DAYLIGHT
TZOFFSETFROM:+0100
TZOFFSETTO:+0200
TZNAME:CEST
DTSTART:20270328T010000
END:DAYLIGHT
BEGIN:STANDARD
TZOFFSETFROM:+0200
TZOFFSETTO:+0100
TZNAME:CET
DTSTART:20271031T010000
END:STANDARD
END:VTIMEZONE
BEGIN:VEVENT
DTSTART;TZID=Europe/Paris:20261009T080000
DTEND;TZID=Europe/Paris:20261019T170000
DTSTAMP:20260421T185142
CREATED:20251203T091724Z
LAST-MODIFIED:20251203T091724Z
UID:10434-1791532800-1792429200@ccif-marseille.com
SUMMARY:Foire Internationale de Montpellier
DESCRIPTION:La Foire Internationale de Montpellier se tiendra du 9 au 19 octobre 2026.\nLa CCIFM y organise le Pavillon Italien\, espace de découverte des produits et talents italiens. \n\nChaque année\, plus de 112 000 visiteurs fréquentent ce salon régional.\nGastronomie\, artisanat\, innovations et offres touristiques seront présentées. \n\nUn rendez-vous important du calendrier économique et culturel régional.
URL:https://ccif-marseille.com/evenement-ccifm/foire-montpellier-2026-pavillon-italien/
LOCATION:Parc des Expositions de Montpellier\, Rte de la Foire\, Pérols\, 34470\, France
CATEGORIES:Foires et salons
ATTACH;FMTTYPE=image/jpeg:https://ccif-marseille.com/wp-content/uploads/2025/12/Montpellier.jpg
ORGANIZER;CN="Annamaria Perna":MAILTO:promotion2@ccif-marseille.com
END:VEVENT
BEGIN:VEVENT
DTSTART;TZID=Europe/Paris:20261015T080000
DTEND;TZID=Europe/Paris:20261019T170000
DTSTAMP:20260421T185142
CREATED:20251203T104408Z
LAST-MODIFIED:20260312T081911Z
UID:10553-1792051200-1792429200@ccif-marseille.com
SUMMARY:Bonjour Provence et la France
DESCRIPTION:Bonjour Provence et la France à Gênes met en lumière les richesses touristiques et culturelles françaises pour le grand public italien. Les visiteurs pourront découvrir des destinations\, des produits régionaux\, de l’artisanat ainsi que des idées de voyage Made in France. \nL’événement constitue un outil stratégique pour promouvoir la France comme destination privilégiée et susciter l’envie d’y voyager. Le public aura l’occasion de rencontrer les exposants français\, participer à des animations thématiques et vivre des expériences immersives. \nUn rendez-vous incontournable pour renforcer les liens culturels et touristiques entre l’Italie et la France.
URL:https://ccif-marseille.com/evenement-ccifm/bonjour-provence-france-genes-2026/
LOCATION:Gênes\, Piazza Giacomo Matteotti\, Gênes\, 16100\, Italie
CATEGORIES:Foires et salons
ATTACH;FMTTYPE=image/jpeg:https://ccif-marseille.com/wp-content/uploads/2025/12/Bonjour-Provence.jpg
ORGANIZER;CN="Sara Sacchetti":MAILTO:promotion3@ccif-marseille.com
END:VEVENT
BEGIN:VEVENT
DTSTART;TZID=Europe/Paris:20261028T080000
DTEND;TZID=Europe/Paris:20261101T170000
DTSTAMP:20260421T185142
CREATED:20251203T102251Z
LAST-MODIFIED:20251205T100055Z
UID:10517-1793174400-1793552400@ccif-marseille.com
SUMMARY:Salon du Chocolat et de la Pâtisserie
DESCRIPTION:L’espace Italie du Salon du Chocolat et de la Pâtisserie à Paris accueille les entreprises italiennes. Cet événement permet des rencontres B2B/B2C et la découverte des dernières tendances gourmandes.  \nLes professionnels profiteront d’opportunités pour élargir leur réseau et présenter leurs innovations. Un rendez-vous incontournable pour les acteurs de la chocolaterie et de la pâtisserie.  \nL’échange culinaire et commercial sera au centre de cette expérience. \n 
URL:https://ccif-marseille.com/evenement-ccifm/salon-chocolat-patisserie-paris/
LOCATION:Paris Expo Porte de Versailles\, 1 Pl. de la Prte de Versailles\, Paris\, 75015\, France
CATEGORIES:Incontri B2B
ATTACH;FMTTYPE=image/jpeg:https://ccif-marseille.com/wp-content/uploads/2025/12/salon-du-chocolat.jpg
ORGANIZER;CN="Fabienne Apeddu":MAILTO:info@ccif-marseille.com
END:VEVENT
BEGIN:VEVENT
DTSTART;TZID=Europe/Paris:20261028T080000
DTEND;TZID=Europe/Paris:20261101T200000
DTSTAMP:20260421T185142
CREATED:20251203T093621Z
LAST-MODIFIED:20251205T100231Z
UID:10446-1793174400-1793563200@ccif-marseille.com
SUMMARY:Villaggio Italiano à Besançon
DESCRIPTION:Le Villaggio Italiano débarque à Besançon pour la 1ʳᵉ édition du 28 octobre au 1er novembre 2026 (dates prévisionnelles).\nCette nouveauté signée CCIFM propose un marché italien accessible gratuitement au public. \nLes visiteurs découvriront artisans\, producteurs et animations culturelles dans la ville. L’événement enrichit l’offre automnale et vise à instaurer un rendez-vous pérenne. \nUne première édition prometteuse pour faire rayonner l’Italie dans l’Est de la France.
URL:https://ccif-marseille.com/evenement-ccifm/villaggio-italiano-besancon-2026-premiere-edition/
CATEGORIES:Foires et salons
ATTACH;FMTTYPE=image/jpeg:https://ccif-marseille.com/wp-content/uploads/2025/12/Besancon-village.jpg
ORGANIZER;CN="Annamaria Perna":MAILTO:promotion2@ccif-marseille.com
END:VEVENT
BEGIN:VEVENT
DTSTART;TZID=Europe/Paris:20261106T080000
DTEND;TZID=Europe/Paris:20261111T170000
DTSTAMP:20260421T185142
CREATED:20251203T094230Z
LAST-MODIFIED:20251205T100456Z
UID:10455-1793952000-1794416400@ccif-marseille.com
SUMMARY:Portofino è…Cassis
DESCRIPTION:Portofino è…Cassis revient pour sa 17ᵉ édition du 6 au 11 novembre 2026 (dates en phase de validation).\nLa CCIFM y installe un village italien thématique inspiré par l’ambiance de Portofino. \nStands colorés\, spécialités italiennes et animations musicales rythment la place principale de la ville. L’événement attire touristes et habitants dans ce décor côtier exceptionnel. \nUne immersion dans le charme et les saveurs italiennes en Provence.
URL:https://ccif-marseille.com/evenement-ccifm/portofino-cassis-2026/
LOCATION:Cassis
CATEGORIES:Foires et salons
ATTACH;FMTTYPE=image/jpeg:https://ccif-marseille.com/wp-content/uploads/2025/12/Cassis.jpg
ORGANIZER;CN="Annamaria Perna":MAILTO:promotion2@ccif-marseille.com
END:VEVENT
BEGIN:VEVENT
DTSTART;TZID=Europe/Paris:20261107T080000
DTEND;TZID=Europe/Paris:20261111T170000
DTSTAMP:20260421T185142
CREATED:20251203T094850Z
LAST-MODIFIED:20251203T094850Z
UID:10467-1794038400-1794416400@ccif-marseille.com
SUMMARY:Salon Bio Marjolaine
DESCRIPTION:Le Salon Bio Marjolaine se tiendra à Paris du 7 au 11 novembre 2026.\nLa CCIFM y organise le Pavillon Italien\, dédié aux producteurs bio et aux filières durables. \n\nCe salon majeur du bio attire un public engagé et nombreux chaque année.\nDes dégustations\, rencontres professionnelles et ateliers mettent en valeur les produits italiens. \n\nUne belle vitrine pour les producteurs italiens engagés dans la qualité et la durabilité. \n 
URL:https://ccif-marseille.com/evenement-ccifm/salon-bio-marjolaine-paris-2026-pavillon-italien/
LOCATION:Parc Floral de Paris\, Rte de la Pyramide\, Paris\, 75012\, France
CATEGORIES:Foires et salons
ATTACH;FMTTYPE=image/jpeg:https://ccif-marseille.com/wp-content/uploads/2025/12/Marjolaine.jpg
ORGANIZER;CN="Annamaria Perna":MAILTO:promotion2@ccif-marseille.com
END:VEVENT
BEGIN:VEVENT
DTSTART;TZID=Europe/Paris:20261113T080000
DTEND;TZID=Europe/Paris:20261118T170000
DTSTAMP:20260421T185142
CREATED:20251203T094510Z
LAST-MODIFIED:20251205T102146Z
UID:10461-1794556800-1795021200@ccif-marseille.com
SUMMARY:Sur un air d’Italie Toulouse
DESCRIPTION:Sur un air d’Italie revient à Toulouse du 13 au 18 novembre 2026 (dates en phase de validation) pour sa 11ᵉ édition.\nLa CCIFM animera le village italien au cœur de la quatrième ville de France. \nVisiteurs et curieux trouveront spécialités\, artisanat et animations culturelles. L’événement favorise les échanges franco-italiens et la promotion touristique. \nUne semaine festive pour célébrer la gastronomie et la culture italiennes en Occitanie. \n 
URL:https://ccif-marseille.com/evenement-ccifm/sur-un-air-ditalie-toulouse-2026/
LOCATION:Toulouse\, Rue Alsace Lorraine\, Toulouse\, Occitanie\, 31000\, France
CATEGORIES:Foires et salons
ATTACH;FMTTYPE=image/jpeg:https://ccif-marseille.com/wp-content/uploads/2025/12/Toulouse.jpg
ORGANIZER;CN="Annamaria Perna":MAILTO:promotion2@ccif-marseille.com
END:VEVENT
BEGIN:VEVENT
DTSTART;TZID=Europe/Paris:20261125T080000
DTEND;TZID=Europe/Paris:20261129T170000
DTSTAMP:20260421T185142
CREATED:20251203T095157Z
LAST-MODIFIED:20251203T125918Z
UID:10473-1795593600-1795971600@ccif-marseille.com
SUMMARY:McArthurGlen Provence fait sa Dolce Vita
DESCRIPTION:Le centre commercial McArthurGlen Miramas accueille « McArthurGlen fait sa Dolce Vita » du 25 au 29 novembre 2026 (Black Friday). Pour sa 4ᵉ édition\, la CCIFM y propose un village italien festif avec stands et animations. \nDégustations\, artisanat et offres commerciales rythment l’événement pendant les soldes.\nL’affluence importante du centre permet une large visibilité aux exposants italiens. \nUne initiative attractive alliant shopping et découverte de la culture italienne. \n 
URL:https://ccif-marseille.com/evenement-ccifm/mcarthurglen-dolce-vita-miramas-2026/
LOCATION:Village des Marques – Miramas\, Mas de La Péronne\, Miramas\, Provence-Alpes-Côte d'Azur\, 13140\, France
CATEGORIES:Foires et salons
ATTACH;FMTTYPE=image/jpeg:https://ccif-marseille.com/wp-content/uploads/2025/12/Miramas.jpg
ORGANIZER;CN="Annamaria Perna":MAILTO:promotion2@ccif-marseille.com
END:VEVENT
BEGIN:VEVENT
DTSTART;TZID=Europe/Paris:20261204T080000
DTEND;TZID=Europe/Paris:20261207T200000
DTSTAMP:20260421T185142
CREATED:20251203T095439Z
LAST-MODIFIED:20251203T095439Z
UID:10477-1796371200-1796673600@ccif-marseille.com
SUMMARY:Salon Saveurs des Plaisirs Gourmands
DESCRIPTION:Le Salon Saveurs des Plaisirs Gourmands se déroulera à Paris du 4 au 7 décembre 2026.\nLa CCIFM y anime un espace italien dédié aux produits artisanaux et gastronomiques. \n\nLes visiteurs peuvent déguster et acheter des spécialités italiennes en vue des fêtes.\nExposants et producteurs présentent nouveautés et produits d’exception. \n\nUn rendez-vous gourmand pour conclure l’année et préparer les fêtes de fin d’année. \n 
URL:https://ccif-marseille.com/evenement-ccifm/salon-saveurs-paris-2026-pavillon-italien/
LOCATION:Espace Champerret\, 6 Rue Jean Oestreicher\, Paris\, 75017
CATEGORIES:Foires et salons
ATTACH;FMTTYPE=image/jpeg:https://ccif-marseille.com/wp-content/uploads/2025/12/Saveurs.jpg
ORGANIZER;CN="Annamaria Perna":MAILTO:promotion2@ccif-marseille.com
END:VEVENT
BEGIN:VEVENT
DTSTART;TZID=Europe/Paris:20261205T080000
DTEND;TZID=Europe/Paris:20261213T170000
DTSTAMP:20260421T185142
CREATED:20251203T103357Z
LAST-MODIFIED:20251205T103758Z
UID:10535-1796457600-1797181200@ccif-marseille.com
SUMMARY:Artigiano in Fiera
DESCRIPTION:Artigiano in Fiera à Milan est l’un des plus grands salons internationaux de l’artisanat. La France y présentera ses savoir-faire uniques et rencontrera des professionnels italiens pour des échanges B2C/B2B.  \nCet événement permet de découvrir les dernières tendances artisanales et de nouer des partenariats durables. Les exposants bénéficient d’une visibilité exceptionnelle sur le marché italien.  \nUne occasion immanquable pour valoriser la créativité française. \n 
URL:https://ccif-marseille.com/evenement-ccifm/artigiano-in-fiera-milan-decembre-2026/
LOCATION:Fieramilano\, Strada Statale Sempione\, 28\, Rho\, 20017
CATEGORIES:Foires et salons
ATTACH;FMTTYPE=image/jpeg:https://ccif-marseille.com/wp-content/uploads/2025/12/Artigiano-Autunno.jpg
ORGANIZER;CN="Sara Sacchetti":MAILTO:promotion3@ccif-marseille.com
END:VEVENT
END:VCALENDAR