BEGIN:VCALENDAR
VERSION:2.0
PRODID:-//CCIFM - ECPv6.15.20//NONSGML v1.0//EN
CALSCALE:GREGORIAN
METHOD:PUBLISH
X-ORIGINAL-URL:https://ccif-marseille.com
X-WR-CALDESC:Évènements pour CCIFM
REFRESH-INTERVAL;VALUE=DURATION:PT1H
X-Robots-Tag:noindex
X-PUBLISHED-TTL:PT1H
BEGIN:VTIMEZONE
TZID:Europe/Paris
BEGIN:DAYLIGHT
TZOFFSETFROM:+0100
TZOFFSETTO:+0200
TZNAME:CEST
DTSTART:20250330T010000
END:DAYLIGHT
BEGIN:STANDARD
TZOFFSETFROM:+0200
TZOFFSETTO:+0100
TZNAME:CET
DTSTART:20251026T010000
END:STANDARD
BEGIN:DAYLIGHT
TZOFFSETFROM:+0100
TZOFFSETTO:+0200
TZNAME:CEST
DTSTART:20260329T010000
END:DAYLIGHT
BEGIN:STANDARD
TZOFFSETFROM:+0200
TZOFFSETTO:+0100
TZNAME:CET
DTSTART:20261025T010000
END:STANDARD
BEGIN:DAYLIGHT
TZOFFSETFROM:+0100
TZOFFSETTO:+0200
TZNAME:CEST
DTSTART:20270328T010000
END:DAYLIGHT
BEGIN:STANDARD
TZOFFSETFROM:+0200
TZOFFSETTO:+0100
TZNAME:CET
DTSTART:20271031T010000
END:STANDARD
END:VTIMEZONE
BEGIN:VEVENT
DTSTART;TZID=Europe/Paris:20260925T080000
DTEND;TZID=Europe/Paris:20261005T170000
DTSTAMP:20260420T003631
CREATED:20251203T091338Z
LAST-MODIFIED:20251203T091338Z
UID:10428-1790323200-1791219600@ccif-marseille.com
SUMMARY:Foire Internationale de Marseille
DESCRIPTION:La Foire Internationale de Marseille se déroulera du 25 septembre au 5 octobre 2026.\nLa CCIFM y coordonne le Pavillon Italien\, point de rencontre pour professionnels et grand public. \n\nPlus de 260 000 visiteurs en 2025 attestent de l’importance de ce salon méditerranéen.\nExposants italiens présenteront gastronomie\, artisanat\, design et offres touristiques. \n\nUn événement majeur pour renforcer la présence italienne en Région Sud. \n 
URL:https://ccif-marseille.com/evenement-ccifm/foire-marseille-2026-pavillon-italien/
LOCATION:Parc Chanot Marseille\, 114 rond point du prado\, Marseille\, 13008\, France
CATEGORIES:Foires et salons
ATTACH;FMTTYPE=image/jpeg:https://ccif-marseille.com/wp-content/uploads/2025/12/Marseille.jpg
ORGANIZER;CN="Annamaria Perna":MAILTO:promotion2@ccif-marseille.com
END:VEVENT
BEGIN:VEVENT
DTSTART;TZID=Europe/Paris:20260930T080000
DTEND;TZID=Europe/Paris:20261003T170000
DTSTAMP:20260420T003631
CREATED:20251203T101908Z
LAST-MODIFIED:20251203T125116Z
UID:10511-1790755200-1791046800@ccif-marseille.com
SUMMARY:Mercante in Fiera septembre
DESCRIPTION:La CCIFM renouvelle son accueil d’opérateurs français du secteur des antiquités à Mercante in Fiera. Cet événement en Italie est une excellente occasion de nouer des contacts B2B et d’explorer de nouvelles opportunités commerciales.  \nLes participants bénéficieront d’un programme complet de visites et de rencontres. C’est un rendez-vous incontournable pour les acteurs du marché antique.  \nL’échange international et la mise en réseau seront au cœur de cette mission.
URL:https://ccif-marseille.com/evenement-ccifm/mercante-in-fiera-antiquites-septembre/
LOCATION:Parma\, Viale Delle Esposizioni\, Parma\, Emilia Romagna\, 43126\, Italie
CATEGORIES:Incontri B2B
ATTACH;FMTTYPE=image/jpeg:https://ccif-marseille.com/wp-content/uploads/2025/12/Mercante-in-Fiera.jpg
ORGANIZER;CN="Fabienne Apeddu":MAILTO:info@ccif-marseille.com
END:VEVENT
BEGIN:VEVENT
DTSTART;TZID=Europe/Paris:20261007T080000
DTEND;TZID=Europe/Paris:20261011T170000
DTSTAMP:20260420T003631
CREATED:20251203T093321Z
LAST-MODIFIED:20251203T093321Z
UID:10440-1791360000-1791738000@ccif-marseille.com
SUMMARY:La Bella Italia en Avignon
DESCRIPTION:La Bella Italia revient à Avignon du 7 au 11 octobre 2026 pour sa 10ᵉ édition (dates en phase de validation selon le document).\nLa CCIFM y installe un village italien en centre-ville pour présenter gastronomie et artisanat. \n\nStands\, animations culturelles et rencontres rythment l’événement dans la cité papale.\nC’est un rendez-vous de choix pour le public avignonnais et les touristes d’octobre. \n\nUne belle occasion de promouvoir la destination Italie et les produits régionaux. \n 
URL:https://ccif-marseille.com/evenement-ccifm/bella-italia-avignon-2026/
LOCATION:Avignon
CATEGORIES:Foires et salons
ATTACH;FMTTYPE=image/jpeg:https://ccif-marseille.com/wp-content/uploads/2025/12/Avignon.jpg
ORGANIZER;CN="Annamaria Perna":MAILTO:promotion2@ccif-marseille.com
END:VEVENT
BEGIN:VEVENT
DTSTART;TZID=Europe/Paris:20261009T080000
DTEND;TZID=Europe/Paris:20261019T170000
DTSTAMP:20260420T003631
CREATED:20251203T091724Z
LAST-MODIFIED:20251203T091724Z
UID:10434-1791532800-1792429200@ccif-marseille.com
SUMMARY:Foire Internationale de Montpellier
DESCRIPTION:La Foire Internationale de Montpellier se tiendra du 9 au 19 octobre 2026.\nLa CCIFM y organise le Pavillon Italien\, espace de découverte des produits et talents italiens. \n\nChaque année\, plus de 112 000 visiteurs fréquentent ce salon régional.\nGastronomie\, artisanat\, innovations et offres touristiques seront présentées. \n\nUn rendez-vous important du calendrier économique et culturel régional.
URL:https://ccif-marseille.com/evenement-ccifm/foire-montpellier-2026-pavillon-italien/
LOCATION:Parc des Expositions de Montpellier\, Rte de la Foire\, Pérols\, 34470\, France
CATEGORIES:Foires et salons
ATTACH;FMTTYPE=image/jpeg:https://ccif-marseille.com/wp-content/uploads/2025/12/Montpellier.jpg
ORGANIZER;CN="Annamaria Perna":MAILTO:promotion2@ccif-marseille.com
END:VEVENT
BEGIN:VEVENT
DTSTART;TZID=Europe/Paris:20261015T080000
DTEND;TZID=Europe/Paris:20261019T170000
DTSTAMP:20260420T003631
CREATED:20251203T104408Z
LAST-MODIFIED:20260312T081911Z
UID:10553-1792051200-1792429200@ccif-marseille.com
SUMMARY:Bonjour Provence et la France
DESCRIPTION:Bonjour Provence et la France à Gênes met en lumière les richesses touristiques et culturelles françaises pour le grand public italien. Les visiteurs pourront découvrir des destinations\, des produits régionaux\, de l’artisanat ainsi que des idées de voyage Made in France. \nL’événement constitue un outil stratégique pour promouvoir la France comme destination privilégiée et susciter l’envie d’y voyager. Le public aura l’occasion de rencontrer les exposants français\, participer à des animations thématiques et vivre des expériences immersives. \nUn rendez-vous incontournable pour renforcer les liens culturels et touristiques entre l’Italie et la France.
URL:https://ccif-marseille.com/evenement-ccifm/bonjour-provence-france-genes-2026/
LOCATION:Gênes\, Piazza Giacomo Matteotti\, Gênes\, 16100\, Italie
CATEGORIES:Foires et salons
ATTACH;FMTTYPE=image/jpeg:https://ccif-marseille.com/wp-content/uploads/2025/12/Bonjour-Provence.jpg
ORGANIZER;CN="Sara Sacchetti":MAILTO:promotion3@ccif-marseille.com
END:VEVENT
BEGIN:VEVENT
DTSTART;TZID=Europe/Paris:20261028T080000
DTEND;TZID=Europe/Paris:20261101T170000
DTSTAMP:20260420T003631
CREATED:20251203T102251Z
LAST-MODIFIED:20251205T100055Z
UID:10517-1793174400-1793552400@ccif-marseille.com
SUMMARY:Salon du Chocolat et de la Pâtisserie
DESCRIPTION:L’espace Italie du Salon du Chocolat et de la Pâtisserie à Paris accueille les entreprises italiennes. Cet événement permet des rencontres B2B/B2C et la découverte des dernières tendances gourmandes.  \nLes professionnels profiteront d’opportunités pour élargir leur réseau et présenter leurs innovations. Un rendez-vous incontournable pour les acteurs de la chocolaterie et de la pâtisserie.  \nL’échange culinaire et commercial sera au centre de cette expérience. \n 
URL:https://ccif-marseille.com/evenement-ccifm/salon-chocolat-patisserie-paris/
LOCATION:Paris Expo Porte de Versailles\, 1 Pl. de la Prte de Versailles\, Paris\, 75015\, France
CATEGORIES:Incontri B2B
ATTACH;FMTTYPE=image/jpeg:https://ccif-marseille.com/wp-content/uploads/2025/12/salon-du-chocolat.jpg
ORGANIZER;CN="Fabienne Apeddu":MAILTO:info@ccif-marseille.com
END:VEVENT
BEGIN:VEVENT
DTSTART;TZID=Europe/Paris:20261028T080000
DTEND;TZID=Europe/Paris:20261101T200000
DTSTAMP:20260420T003631
CREATED:20251203T093621Z
LAST-MODIFIED:20251205T100231Z
UID:10446-1793174400-1793563200@ccif-marseille.com
SUMMARY:Villaggio Italiano à Besançon
DESCRIPTION:Le Villaggio Italiano débarque à Besançon pour la 1ʳᵉ édition du 28 octobre au 1er novembre 2026 (dates prévisionnelles).\nCette nouveauté signée CCIFM propose un marché italien accessible gratuitement au public. \nLes visiteurs découvriront artisans\, producteurs et animations culturelles dans la ville. L’événement enrichit l’offre automnale et vise à instaurer un rendez-vous pérenne. \nUne première édition prometteuse pour faire rayonner l’Italie dans l’Est de la France.
URL:https://ccif-marseille.com/evenement-ccifm/villaggio-italiano-besancon-2026-premiere-edition/
CATEGORIES:Foires et salons
ATTACH;FMTTYPE=image/jpeg:https://ccif-marseille.com/wp-content/uploads/2025/12/Besancon-village.jpg
ORGANIZER;CN="Annamaria Perna":MAILTO:promotion2@ccif-marseille.com
END:VEVENT
END:VCALENDAR