BEGIN:VCALENDAR
VERSION:2.0
PRODID:-//CCIFM - ECPv6.15.20//NONSGML v1.0//EN
CALSCALE:GREGORIAN
METHOD:PUBLISH
X-ORIGINAL-URL:https://ccif-marseille.com
X-WR-CALDESC:Eventi per CCIFM
REFRESH-INTERVAL;VALUE=DURATION:PT1H
X-Robots-Tag:noindex
X-PUBLISHED-TTL:PT1H
BEGIN:VTIMEZONE
TZID:Europe/Paris
BEGIN:DAYLIGHT
TZOFFSETFROM:+0100
TZOFFSETTO:+0200
TZNAME:CEST
DTSTART:20250330T010000
END:DAYLIGHT
BEGIN:STANDARD
TZOFFSETFROM:+0200
TZOFFSETTO:+0100
TZNAME:CET
DTSTART:20251026T010000
END:STANDARD
BEGIN:DAYLIGHT
TZOFFSETFROM:+0100
TZOFFSETTO:+0200
TZNAME:CEST
DTSTART:20260329T010000
END:DAYLIGHT
BEGIN:STANDARD
TZOFFSETFROM:+0200
TZOFFSETTO:+0100
TZNAME:CET
DTSTART:20261025T010000
END:STANDARD
BEGIN:DAYLIGHT
TZOFFSETFROM:+0100
TZOFFSETTO:+0200
TZNAME:CEST
DTSTART:20270328T010000
END:DAYLIGHT
BEGIN:STANDARD
TZOFFSETFROM:+0200
TZOFFSETTO:+0100
TZNAME:CET
DTSTART:20271031T010000
END:STANDARD
END:VTIMEZONE
BEGIN:VEVENT
DTSTART;TZID=Europe/Paris:20260301T080000
DTEND;TZID=Europe/Paris:20260513T170000
DTSTAMP:20260419T221336
CREATED:20251203T100307Z
LAST-MODIFIED:20260303T075913Z
UID:10488-1772352000-1778691600@ccif-marseille.com
SUMMARY:Business Trip “Bike” in Italia con Promos Italia
DESCRIPTION:La Camera di Commercio Italiana per la Francia organizza un Business Trip in Italia con Promos Italia.\nI partecipanti visiteranno aziende innovative e parteciperanno a incontri B2B nel settore delle biciclette. \nUn’opportunità unica per rafforzare partnership e sviluppare nuove collaborazioni commerciali.\nL’evento combina visite professionali ed esperienze pratiche di networking. \nNon perdere questa immersione nell’ecosistema imprenditoriale italiano. \nDate in corso di validazione.
URL:https://ccif-marseille.com/it/evenement-ccifm/business-trip-italia-promos-italia-bici/
LOCATION:Italie\, Italy
CATEGORIES:Incontri B2B,Rencontres B2B
ATTACH;FMTTYPE=image/jpeg:https://ccif-marseille.com/wp-content/uploads/2025/12/Bike-B2B.jpg
ORGANIZER;CN="Fabienne Apeddu":MAILTO:info@ccif-marseille.com
END:VEVENT
BEGIN:VEVENT
DTSTART;TZID=Europe/Paris:20260430T080000
DTEND;TZID=Europe/Paris:20260511T170000
DTSTAMP:20260419T221336
CREATED:20251203T081617Z
LAST-MODIFIED:20251203T081723Z
UID:10363-1777536000-1778518800@ccif-marseille.com
SUMMARY:Fiera di Parigi
DESCRIPTION:La Fiera di Parigi si svolgerà dal 30 aprile all’11 maggio 2026\, attirando un vasto pubblico.\nLa CCIFM organizza il Padiglione Italiano per presentare aziende\, innovazioni e prodotti italiani. \n\nOgni anno la fiera attira centinaia di migliaia di visitatori\, offrendo grande visibilità.\nEsposizioni\, dimostrazioni e offerte commerciali rendono questo evento un momento clou per il commercio. \n\nUn’ottima opportunità per le aziende italiane di raggiungere un pubblico nazionale e internazionale.
URL:https://ccif-marseille.com/it/evenement-ccifm/fiera-parigi-2026-padiglione-italiano/
LOCATION:Paris Expo Porte de Versailles\, 1 Pl. de la Prte de Versailles\, Paris\, 75015\, France
CATEGORIES:Fiere e saloni
ATTACH;FMTTYPE=image/jpeg:https://ccif-marseille.com/wp-content/uploads/2025/12/Foire-de-Paris.jpg
ORGANIZER;CN="Annamaria Perna":MAILTO:promotion2@ccif-marseille.com
END:VEVENT
BEGIN:VEVENT
DTSTART;TZID=Europe/Paris:20260501T080000
DTEND;TZID=Europe/Paris:20260630T170000
DTSTAMP:20260419T221336
CREATED:20251203T101518Z
LAST-MODIFIED:20251203T131448Z
UID:10509-1777622400-1782838800@ccif-marseille.com
SUMMARY:Presstour Viaggio di scoperta in Provenza
DESCRIPTION:La CCIFM organizza un Presstour per quattro giornalisti italiani in Provenza.\nIl viaggio mette in evidenza le attrazioni culturali e turistiche della regione. \nGli incontri permetteranno di creare contenuti mediatici e promuovere la Francia in Italia.\nIl programma combina visite guidate ed esperienze locali su misura. \nUn’iniziativa strategica per aumentare la visibilità dei territori francesi presso i media italiani. \nDate in corso di validazione.
URL:https://ccif-marseille.com/it/evenement-ccifm/presstour-giornalisti-italiani-provenza/
LOCATION:Provence\, Provenza - Costa Azzurra\, France
CATEGORIES:Rencontres B2B
ATTACH;FMTTYPE=image/jpeg:https://ccif-marseille.com/wp-content/uploads/2025/12/Press-Tour-Provence.jpg
ORGANIZER;CN="Fabienne Apeddu":MAILTO:info@ccif-marseille.com
END:VEVENT
BEGIN:VEVENT
DTSTART;TZID=Europe/Paris:20260506T080000
DTEND;TZID=Europe/Paris:20260510T170000
DTSTAMP:20260419T221336
CREATED:20251203T082220Z
LAST-MODIFIED:20251203T082401Z
UID:10375-1778054400-1778432400@ccif-marseille.com
SUMMARY:Fest’Italia Sainte-Maxime
DESCRIPTION:FEST’ITALIA torna a Sainte-Maxime per la sua 27ª edizione\, dal 6 al 10 maggio 2026.\nLa CCIFM trasforma il lungomare in un villaggio italiano con stand\, animazioni e spettacoli. \n\nProduttori italiani\, laboratori culinari e musica creano un’atmosfera conviviale e turistica.\nL’evento attira residenti e vacanzieri\, rafforzando i legami culturali locali. \n\nUn appuntamento imperdibile sulla Costa Azzurra per celebrare il meglio dell’Italia. \n 
URL:https://ccif-marseille.com/it/evenement-ccifm/festitalia-sainte-maxime-2026/
LOCATION:Sainte-Maxime\, Var\, 83120\, France
CATEGORIES:Fiere e saloni
ATTACH;FMTTYPE=image/jpeg:https://ccif-marseille.com/wp-content/uploads/2025/12/Sainte-Maxime.jpg
ORGANIZER;CN="Annamaria Perna":MAILTO:promotion2@ccif-marseille.com
END:VEVENT
END:VCALENDAR