BEGIN:VCALENDAR
VERSION:2.0
PRODID:-//CCIFM - ECPv6.15.20//NONSGML v1.0//EN
CALSCALE:GREGORIAN
METHOD:PUBLISH
X-WR-CALNAME:CCIFM
X-ORIGINAL-URL:https://ccif-marseille.com
X-WR-CALDESC:Eventi per CCIFM
REFRESH-INTERVAL;VALUE=DURATION:PT1H
X-Robots-Tag:noindex
X-PUBLISHED-TTL:PT1H
BEGIN:VTIMEZONE
TZID:Europe/Paris
BEGIN:DAYLIGHT
TZOFFSETFROM:+0100
TZOFFSETTO:+0200
TZNAME:CEST
DTSTART:20250330T010000
END:DAYLIGHT
BEGIN:STANDARD
TZOFFSETFROM:+0200
TZOFFSETTO:+0100
TZNAME:CET
DTSTART:20251026T010000
END:STANDARD
BEGIN:DAYLIGHT
TZOFFSETFROM:+0100
TZOFFSETTO:+0200
TZNAME:CEST
DTSTART:20260329T010000
END:DAYLIGHT
BEGIN:STANDARD
TZOFFSETFROM:+0200
TZOFFSETTO:+0100
TZNAME:CET
DTSTART:20261025T010000
END:STANDARD
BEGIN:DAYLIGHT
TZOFFSETFROM:+0100
TZOFFSETTO:+0200
TZNAME:CEST
DTSTART:20270328T010000
END:DAYLIGHT
BEGIN:STANDARD
TZOFFSETFROM:+0200
TZOFFSETTO:+0100
TZNAME:CET
DTSTART:20271031T010000
END:STANDARD
END:VTIMEZONE
BEGIN:VEVENT
DTSTART;TZID=Europe/Paris:20261007T080000
DTEND;TZID=Europe/Paris:20261011T170000
DTSTAMP:20260420T003450
CREATED:20251203T093321Z
LAST-MODIFIED:20251203T093442Z
UID:10444-1791360000-1791738000@ccif-marseille.com
SUMMARY:La Bella Italia Avignone
DESCRIPTION:La Bella Italia torna ad Avignone dal 7 all’11 ottobre 2026 per la sua 10ª edizione.\nLa CCIFM allestisce un villaggio italiano in centro città con gastronomia e artigianato. \n\nStand\, animazioni culturali e incontri arricchiscono l’evento nella città papale.\nUn appuntamento imperdibile per il pubblico locale e i turisti di ottobre. \n\nUn’ottima occasione per promuovere la destinazione Italia e i prodotti regionali. \n 
URL:https://ccif-marseille.com/it/evenement-ccifm/la-bella-italia-avignone-2026/
LOCATION:Avignon
CATEGORIES:Fiere e saloni
ATTACH;FMTTYPE=image/jpeg:https://ccif-marseille.com/wp-content/uploads/2025/12/Avignon.jpg
ORGANIZER;CN="Annamaria Perna":MAILTO:promotion2@ccif-marseille.com
END:VEVENT
END:VCALENDAR