BEGIN:VCALENDAR
VERSION:2.0
PRODID:-//CCIFM - ECPv6.15.20//NONSGML v1.0//EN
CALSCALE:GREGORIAN
METHOD:PUBLISH
X-WR-CALNAME:CCIFM
X-ORIGINAL-URL:https://ccif-marseille.com
X-WR-CALDESC:Eventi per CCIFM
REFRESH-INTERVAL;VALUE=DURATION:PT1H
X-Robots-Tag:noindex
X-PUBLISHED-TTL:PT1H
BEGIN:VTIMEZONE
TZID:Europe/Paris
BEGIN:DAYLIGHT
TZOFFSETFROM:+0100
TZOFFSETTO:+0200
TZNAME:CEST
DTSTART:20250330T010000
END:DAYLIGHT
BEGIN:STANDARD
TZOFFSETFROM:+0200
TZOFFSETTO:+0100
TZNAME:CET
DTSTART:20251026T010000
END:STANDARD
BEGIN:DAYLIGHT
TZOFFSETFROM:+0100
TZOFFSETTO:+0200
TZNAME:CEST
DTSTART:20260329T010000
END:DAYLIGHT
BEGIN:STANDARD
TZOFFSETFROM:+0200
TZOFFSETTO:+0100
TZNAME:CET
DTSTART:20261025T010000
END:STANDARD
BEGIN:DAYLIGHT
TZOFFSETFROM:+0100
TZOFFSETTO:+0200
TZNAME:CEST
DTSTART:20270328T010000
END:DAYLIGHT
BEGIN:STANDARD
TZOFFSETFROM:+0200
TZOFFSETTO:+0100
TZNAME:CET
DTSTART:20271031T010000
END:STANDARD
END:VTIMEZONE
BEGIN:VEVENT
DTSTART;TZID=Europe/Paris:20261113T080000
DTEND;TZID=Europe/Paris:20261118T170000
DTSTAMP:20260421T104553
CREATED:20251203T094510Z
LAST-MODIFIED:20251205T102225Z
UID:10465-1794556800-1795021200@ccif-marseille.com
SUMMARY:Sur un Air d’Italie Tolosa
DESCRIPTION:Sur un Air d’Italie torna a Tolosa dal 13 al 18 novembre 2026 per la sua 11ª edizione (date in definizione).\nLa CCIFM anima il villaggio italiano nel cuore della quarta città di Francia. \nI visitatori scopriranno specialità\, artigianato e animazioni culturali. L’evento favorisce gli scambi franco-italiani e la promozione turistica. \nUna settimana festosa per celebrare gastronomia e cultura italiane in Occitania. \n 
URL:https://ccif-marseille.com/it/evenement-ccifm/sur-un-air-ditalie-tolosa-2026/
LOCATION:Toulouse\, Rue Alsace Lorraine\, Toulouse\, Occitanie\, 31000\, France
CATEGORIES:Fiere e saloni
ATTACH;FMTTYPE=image/jpeg:https://ccif-marseille.com/wp-content/uploads/2025/12/Toulouse.jpg
ORGANIZER;CN="Annamaria Perna":MAILTO:promotion2@ccif-marseille.com
END:VEVENT
END:VCALENDAR