BEGIN:VCALENDAR
VERSION:2.0
PRODID:-//CCIFM - ECPv6.15.20//NONSGML v1.0//EN
CALSCALE:GREGORIAN
METHOD:PUBLISH
X-ORIGINAL-URL:https://ccif-marseille.com
X-WR-CALDESC:Eventi per CCIFM
REFRESH-INTERVAL;VALUE=DURATION:PT1H
X-Robots-Tag:noindex
X-PUBLISHED-TTL:PT1H
BEGIN:VTIMEZONE
TZID:Europe/Paris
BEGIN:DAYLIGHT
TZOFFSETFROM:+0100
TZOFFSETTO:+0200
TZNAME:CEST
DTSTART:20250330T010000
END:DAYLIGHT
BEGIN:STANDARD
TZOFFSETFROM:+0200
TZOFFSETTO:+0100
TZNAME:CET
DTSTART:20251026T010000
END:STANDARD
BEGIN:DAYLIGHT
TZOFFSETFROM:+0100
TZOFFSETTO:+0200
TZNAME:CEST
DTSTART:20260329T010000
END:DAYLIGHT
BEGIN:STANDARD
TZOFFSETFROM:+0200
TZOFFSETTO:+0100
TZNAME:CET
DTSTART:20261025T010000
END:STANDARD
BEGIN:DAYLIGHT
TZOFFSETFROM:+0100
TZOFFSETTO:+0200
TZNAME:CEST
DTSTART:20270328T010000
END:DAYLIGHT
BEGIN:STANDARD
TZOFFSETFROM:+0200
TZOFFSETTO:+0100
TZNAME:CET
DTSTART:20271031T010000
END:STANDARD
END:VTIMEZONE
BEGIN:VEVENT
DTSTART;TZID=Europe/Paris:20261028T080000
DTEND;TZID=Europe/Paris:20261101T170000
DTSTAMP:20260421T174402
CREATED:20251203T102251Z
LAST-MODIFIED:20251205T100121Z
UID:10521-1793174400-1793552400@ccif-marseille.com
SUMMARY:Salone del Cioccolato e Pasticceria
DESCRIPTION:Lo spazio Italia del Salon du Chocolat e Pasticceria a Parigi accoglie aziende italiane. L’evento favorisce incontri B2B/B2C e la scoperta delle ultime tendenze del settore dolciario. \nI professionisti avranno opportunità per ampliare il network e presentare innovazioni. Un appuntamento imperdibile per gli operatori di cioccolato e pasticceria. \nLo scambio culinario e commerciale sarà al centro dell’esperienza. \n 
URL:https://ccif-marseille.com/it/evenement-ccifm/salone-cioccolato-pasticceria-parigi/
LOCATION:Paris Expo Porte de Versailles\, 1 Pl. de la Prte de Versailles\, Paris\, 75015\, France
CATEGORIES:Incontri B2B
ATTACH;FMTTYPE=image/jpeg:https://ccif-marseille.com/wp-content/uploads/2025/12/salon-du-chocolat.jpg
ORGANIZER;CN="Fabienne Apeddu":MAILTO:info@ccif-marseille.com
END:VEVENT
BEGIN:VEVENT
DTSTART;TZID=Europe/Paris:20261028T080000
DTEND;TZID=Europe/Paris:20261101T200000
DTSTAMP:20260421T174402
CREATED:20251203T093621Z
LAST-MODIFIED:20251205T100322Z
UID:10450-1793174400-1793563200@ccif-marseille.com
SUMMARY:Villaggio Italiano di Besançon
DESCRIPTION:Il Villaggio Italiano arriva a Besançon per la sua 1ª edizione\, dal 28 ottobre al 1° novembre 2026 (date in definizione).\nQuesta novità della CCIFM propone un mercato italiano gratuito e aperto al pubblico. \nI visitatori scopriranno artigiani\, produttori e animazioni culturali in città. L’evento arricchisce l’offerta autunnale e mira a diventare un appuntamento stabile. \nUna prima edizione promettente per valorizzare l’Italia nell’Est della Francia.
URL:https://ccif-marseille.com/it/evenement-ccifm/villaggio-italiano-besancon-2026-prima-edizione/
CATEGORIES:Fiere e saloni
ATTACH;FMTTYPE=image/jpeg:https://ccif-marseille.com/wp-content/uploads/2025/12/Besancon-village.jpg
ORGANIZER;CN="Annamaria Perna":MAILTO:promotion2@ccif-marseille.com
END:VEVENT
BEGIN:VEVENT
DTSTART;TZID=Europe/Paris:20261106T080000
DTEND;TZID=Europe/Paris:20261111T170000
DTSTAMP:20260421T174402
CREATED:20251203T094230Z
LAST-MODIFIED:20251205T100533Z
UID:10459-1793952000-1794416400@ccif-marseille.com
SUMMARY:Portofino è… Cassis
DESCRIPTION:Portofino è…Cassis torna per la sua 17ª edizione dal 6 all’11 novembre 2026 (date in definizione).\nLa CCIFM allestisce un villaggio italiano tematico ispirato all’atmosfera di Portofino. \nStand colorati\, specialità italiane e animazioni musicali animano l’evento. L’evento attira turisti e residenti in questo scenario costiero eccezionale. \nUn’immersione nel fascino e nei sapori italiani in Provenza.
URL:https://ccif-marseille.com/it/evenement-ccifm/portofino-cassis-2026/
LOCATION:Cassis
CATEGORIES:Fiere e saloni
ATTACH;FMTTYPE=image/jpeg:https://ccif-marseille.com/wp-content/uploads/2025/12/Cassis.jpg
ORGANIZER;CN="Annamaria Perna":MAILTO:promotion2@ccif-marseille.com
END:VEVENT
BEGIN:VEVENT
DTSTART;TZID=Europe/Paris:20261107T080000
DTEND;TZID=Europe/Paris:20261111T170000
DTSTAMP:20260421T174402
CREATED:20251203T094850Z
LAST-MODIFIED:20251203T095003Z
UID:10471-1794038400-1794416400@ccif-marseille.com
SUMMARY:Salon Bio Marjolaine Parigi
DESCRIPTION:Il Salone Bio Marjolaine si terrà a Parigi dal 7 all’11 novembre 2026.\nLa CCIFM organizza il Padiglione Italiano dedicato ai produttori bio e alle filiere sostenibili. \n\nQuesta fiera bio attira ogni anno un pubblico numeroso e impegnato.\nDegustazioni\, incontri professionali e laboratori valorizzano i prodotti italiani. \n\nUna vetrina eccellente per i produttori italiani attenti a qualità e sostenibilità. \n 
URL:https://ccif-marseille.com/it/evenement-ccifm/salon-bio-marjolaine-paris-2026-padiglione-italiano/
LOCATION:Parc Floral de Paris\, Rte de la Pyramide\, Paris\, 75012\, France
CATEGORIES:Fiere e saloni
ATTACH;FMTTYPE=image/jpeg:https://ccif-marseille.com/wp-content/uploads/2025/12/Marjolaine.jpg
ORGANIZER;CN="Annamaria Perna":MAILTO:promotion2@ccif-marseille.com
END:VEVENT
BEGIN:VEVENT
DTSTART;TZID=Europe/Paris:20261113T080000
DTEND;TZID=Europe/Paris:20261118T170000
DTSTAMP:20260421T174402
CREATED:20251203T094510Z
LAST-MODIFIED:20251205T102225Z
UID:10465-1794556800-1795021200@ccif-marseille.com
SUMMARY:Sur un Air d’Italie Tolosa
DESCRIPTION:Sur un Air d’Italie torna a Tolosa dal 13 al 18 novembre 2026 per la sua 11ª edizione (date in definizione).\nLa CCIFM anima il villaggio italiano nel cuore della quarta città di Francia. \nI visitatori scopriranno specialità\, artigianato e animazioni culturali. L’evento favorisce gli scambi franco-italiani e la promozione turistica. \nUna settimana festosa per celebrare gastronomia e cultura italiane in Occitania. \n 
URL:https://ccif-marseille.com/it/evenement-ccifm/sur-un-air-ditalie-tolosa-2026/
LOCATION:Toulouse\, Rue Alsace Lorraine\, Toulouse\, Occitanie\, 31000\, France
CATEGORIES:Fiere e saloni
ATTACH;FMTTYPE=image/jpeg:https://ccif-marseille.com/wp-content/uploads/2025/12/Toulouse.jpg
ORGANIZER;CN="Annamaria Perna":MAILTO:promotion2@ccif-marseille.com
END:VEVENT
BEGIN:VEVENT
DTSTART;TZID=Europe/Paris:20261125T080000
DTEND;TZID=Europe/Paris:20261129T170000
DTSTAMP:20260421T174402
CREATED:20251203T095157Z
LAST-MODIFIED:20251203T125933Z
UID:10475-1795593600-1795971600@ccif-marseille.com
SUMMARY:McArthurGlen Dolce Vita
DESCRIPTION:Il centro commerciale McArthurGlen Miramas ospita « McArthurGlen Dolce Vita » dal 25 al 29 novembre 2026 (Black Friday). Per la 4ª edizione\, la CCIFM propone un villaggio italiano festivo con stand e animazioni. \nDegustazioni\, artigianato e offerte commerciali animano l’evento durante i saldi.\nL’alta affluenza del centro offre grande visibilità agli espositori italiani. \nUn’iniziativa che unisce shopping e scoperta della cultura italiana.
URL:https://ccif-marseille.com/it/evenement-ccifm/mcarthurglen-dolce-vitamcarthurglen-dolce-vita-miramas-2026/
LOCATION:Village des Marques – Miramas\, Mas de La Péronne\, Miramas\, Provence-Alpes-Côte d'Azur\, 13140\, France
CATEGORIES:Fiere e saloni
ATTACH;FMTTYPE=image/jpeg:https://ccif-marseille.com/wp-content/uploads/2025/12/Miramas.jpg
ORGANIZER;CN="Annamaria Perna":MAILTO:promotion2@ccif-marseille.com
END:VEVENT
BEGIN:VEVENT
DTSTART;TZID=Europe/Paris:20261204T080000
DTEND;TZID=Europe/Paris:20261207T200000
DTSTAMP:20260421T174402
CREATED:20251203T095439Z
LAST-MODIFIED:20251203T095545Z
UID:10481-1796371200-1796673600@ccif-marseille.com
SUMMARY:Salone Saveurs des Plaisirs Gourmands Parigi
DESCRIPTION:Il Salone Saveurs des Plaisirs Gourmands si terrà a Parigi dal 4 al 7 dicembre 2026.\nLa CCIFM anima uno spazio italiano dedicato a prodotti artigianali e gastronomici. \n\nI visitatori possono degustare e acquistare specialità italiane per le feste.\nEspositori e produttori presentano novità e prodotti d’eccellenza. \n\nUn appuntamento goloso per concludere l’anno e preparare le festività.
URL:https://ccif-marseille.com/it/evenement-ccifm/salone-saveurs-paris-2026-padiglione-italiano/
LOCATION:Espace Champerret\, 6 Rue Jean Oestreicher\, Paris\, 75017
CATEGORIES:Fiere e saloni
ATTACH;FMTTYPE=image/jpeg:https://ccif-marseille.com/wp-content/uploads/2025/12/Saveurs.jpg
ORGANIZER;CN="Annamaria Perna":MAILTO:promotion2@ccif-marseille.com
END:VEVENT
BEGIN:VEVENT
DTSTART;TZID=Europe/Paris:20261205T080000
DTEND;TZID=Europe/Paris:20261213T170000
DTSTAMP:20260421T174402
CREATED:20251203T103357Z
LAST-MODIFIED:20251205T103837Z
UID:10539-1796457600-1797181200@ccif-marseille.com
SUMMARY:Artigiano in Fiera
DESCRIPTION:Artigiano in Fiera a Milano è una delle più grandi fiere internazionali dell’artigianato. La Francia presenterà i propri saperi unici e incontrerà professionisti italiani per scambi B2C/ B2B. \nL’evento permette di scoprire le ultime tendenze artigianali e creare partnership durature. Gli espositori beneficiano di visibilità eccezionale sul mercato italiano. \nUn’occasione imperdibile per valorizzare la creatività francese. \n 
URL:https://ccif-marseille.com/it/evenement-ccifm/artigiano-in-fiera-milano-dicembre-2026/
LOCATION:Fieramilano\, Strada Statale Sempione\, 28\, Rho\, 20017
CATEGORIES:Fiere e saloni
ATTACH;FMTTYPE=image/jpeg:https://ccif-marseille.com/wp-content/uploads/2025/12/Artigiano-Autunno.jpg
ORGANIZER;CN="Sara Sacchetti":MAILTO:promotion3@ccif-marseille.com
END:VEVENT
END:VCALENDAR