BEGIN:VCALENDAR
VERSION:2.0
PRODID:-//CCIFM - ECPv6.15.20//NONSGML v1.0//EN
CALSCALE:GREGORIAN
METHOD:PUBLISH
X-WR-CALNAME:CCIFM
X-ORIGINAL-URL:https://ccif-marseille.com
X-WR-CALDESC:Eventi per CCIFM
REFRESH-INTERVAL;VALUE=DURATION:PT1H
X-Robots-Tag:noindex
X-PUBLISHED-TTL:PT1H
BEGIN:VTIMEZONE
TZID:Europe/Paris
BEGIN:DAYLIGHT
TZOFFSETFROM:+0100
TZOFFSETTO:+0200
TZNAME:CEST
DTSTART:20250330T010000
END:DAYLIGHT
BEGIN:STANDARD
TZOFFSETFROM:+0200
TZOFFSETTO:+0100
TZNAME:CET
DTSTART:20251026T010000
END:STANDARD
BEGIN:DAYLIGHT
TZOFFSETFROM:+0100
TZOFFSETTO:+0200
TZNAME:CEST
DTSTART:20260329T010000
END:DAYLIGHT
BEGIN:STANDARD
TZOFFSETFROM:+0200
TZOFFSETTO:+0100
TZNAME:CET
DTSTART:20261025T010000
END:STANDARD
BEGIN:DAYLIGHT
TZOFFSETFROM:+0100
TZOFFSETTO:+0200
TZNAME:CEST
DTSTART:20270328T010000
END:DAYLIGHT
BEGIN:STANDARD
TZOFFSETFROM:+0200
TZOFFSETTO:+0100
TZNAME:CET
DTSTART:20271031T010000
END:STANDARD
END:VTIMEZONE
BEGIN:VEVENT
DTSTART;TZID=Europe/Paris:20260902T080000
DTEND;TZID=Europe/Paris:20260906T170000
DTSTAMP:20260419T213950
CREATED:20251203T090335Z
LAST-MODIFIED:20251203T090430Z
UID:10419-1788336000-1788714000@ccif-marseille.com
SUMMARY:Le Italiane di Martigues
DESCRIPTION:Le Italiane si terranno a Martigues dal 2 al 6 settembre 2026 per la 19ª edizione.\nLa CCIFM allestisce un villaggio italiano con prodotti gastronomici e creazioni artigianali. \n\nAnimazioni\, concerti e dimostrazioni animano la città\, soprannominata la « Venezia provenzale ».\nL’evento attira pubblico familiare e turistico a fine estate. \n\nUn appuntamento di inizio autunno per celebrare l’identità culturale italiana in Provenza. \n 
URL:https://ccif-marseille.com/it/evenement-ccifm/le-italiane-martigues-2026/
LOCATION:Martigues\, Jardin de Ferrières\, Martigues\, 13500\, France
CATEGORIES:Fiere e saloni
ATTACH;FMTTYPE=image/jpeg:https://ccif-marseille.com/wp-content/uploads/2025/12/Martigues.jpg
ORGANIZER;CN="Annamaria Perna":MAILTO:promotion2@ccif-marseille.com
END:VEVENT
BEGIN:VEVENT
DTSTART;TZID=Europe/Paris:20260904T080000
DTEND;TZID=Europe/Paris:20260913T170000
DTSTAMP:20260419T213950
CREATED:20251203T090845Z
LAST-MODIFIED:20251203T090959Z
UID:10426-1788508800-1789318800@ccif-marseille.com
SUMMARY:Fiera Europea di Strasburgo
DESCRIPTION:La Fiera Europea di Strasburgo si terrà dal 4 al 13 settembre 2026\, attirando pubblico transfrontaliero.\nLa CCIFM organizza il Padiglione Italiano per presentare prodotti e iniziative turistiche. \n\nOltre 139.998 visitatori (stat. 2025) confermano l’attrattività della fiera.\nEspositori italiani combinano gastronomia\, artigianato e proposte culturali. \n\nUn evento strategico per raggiungere il pubblico d’Alsazia e regioni limitrofe. \n 
URL:https://ccif-marseille.com/it/evenement-ccifm/fiera-europea-strasburgo-2026/
LOCATION:Parc Expo strasbourg\, Place de Bordeaux\, Strasbourg\, 67082
CATEGORIES:Fiere e saloni
ATTACH;FMTTYPE=image/jpeg:https://ccif-marseille.com/wp-content/uploads/2025/12/Strasbourg.jpg
ORGANIZER;CN="Annamaria Perna":MAILTO:promotion2@ccif-marseille.com
END:VEVENT
BEGIN:VEVENT
DTSTART;TZID=Europe/Paris:20260925T080000
DTEND;TZID=Europe/Paris:20261005T170000
DTSTAMP:20260419T213950
CREATED:20251203T091338Z
LAST-MODIFIED:20251203T091434Z
UID:10432-1790323200-1791219600@ccif-marseille.com
SUMMARY:Fiera Internazionale di Marsiglia
DESCRIPTION:La Fiera Internazionale di Marsiglia si terrà dal 25 settembre al 5 ottobre 2026.\nLa CCIFM coordina il Padiglione Italiano\, punto di incontro per professionisti e pubblico generale. \n\nOltre 260.000 visitatori nel 2025 confermano l’importanza di questa fiera mediterranea.\nEspositori italiani presenteranno gastronomia\, artigianato\, design e offerte turistiche. \n\nUn evento chiave per rafforzare la presenza italiana nella Regione Sud.
URL:https://ccif-marseille.com/it/evenement-ccifm/fiera-marsiglia-2026-padiglione-italiano/
LOCATION:Parc Chanot Marseille\, 114 rond point du prado\, Marseille\, 13008\, France
CATEGORIES:Fiere e saloni
ATTACH;FMTTYPE=image/jpeg:https://ccif-marseille.com/wp-content/uploads/2025/12/Marseille.jpg
ORGANIZER;CN="Annamaria Perna":MAILTO:promotion2@ccif-marseille.com
END:VEVENT
BEGIN:VEVENT
DTSTART;TZID=Europe/Paris:20260930T080000
DTEND;TZID=Europe/Paris:20261003T170000
DTSTAMP:20260419T213950
CREATED:20251203T101908Z
LAST-MODIFIED:20251203T131140Z
UID:10515-1790755200-1791046800@ccif-marseille.com
SUMMARY:Mercante in Fiera settembre
DESCRIPTION:La CCIFM rinnova l’accoglienza di operatori francesi del settore antiquariato a Mercante in Fiera.\nL’evento in Italia è un’ottima occasione per contatti B2B e nuove opportunità commerciali. \nI partecipanti seguiranno un programma completo di visite e incontri.\nUn appuntamento imperdibile per gli operatori del mercato dell’antico. \nNetworking e scambi internazionali saranno al centro della missione.
URL:https://ccif-marseille.com/it/evenement-ccifm/mercante-in-fiera-antiquariato-settembre/
LOCATION:Parma\, Viale Delle Esposizioni\, Parma\, Emilia Romagna\, 43126\, Italie
CATEGORIES:Incontri B2B
ATTACH;FMTTYPE=image/jpeg:https://ccif-marseille.com/wp-content/uploads/2025/12/Mercante-in-Fiera.jpg
ORGANIZER;CN="Fabienne Apeddu":MAILTO:info@ccif-marseille.com
END:VEVENT
END:VCALENDAR